BEGIN:VCALENDAR
VERSION:2.0
PRODID:-//Tennis Club Phalsbourg - ECPv5.1.0//NONSGML v1.0//EN
CALSCALE:GREGORIAN
METHOD:PUBLISH
X-WR-CALNAME:Tennis Club Phalsbourg
X-ORIGINAL-URL:http://www.tcphalsbourg.fr
X-WR-CALDESC:Évènements pour Tennis Club Phalsbourg
BEGIN:VTIMEZONE
TZID:Europe/Paris
BEGIN:DAYLIGHT
TZOFFSETFROM:+0100
TZOFFSETTO:+0200
TZNAME:CEST
DTSTART:20210328T010000
END:DAYLIGHT
BEGIN:STANDARD
TZOFFSETFROM:+0200
TZOFFSETTO:+0100
TZNAME:CET
DTSTART:20211031T010000
END:STANDARD
END:VTIMEZONE
BEGIN:VEVENT
DTSTART;TZID=Europe/Paris:20211107T090000
DTEND;TZID=Europe/Paris:20211107T090000
DTSTAMP:20260420T143228
CREATED:20181111T152203Z
LAST-MODIFIED:20211025T210435Z
UID:3844-1636275600-1636275600@www.tcphalsbourg.fr
SUMMARY:Championnat hiver Filles et Garçons 11/12
DESCRIPTION:
URL:http://www.tcphalsbourg.fr/event/championnat-jeunes/
LOCATION:Tennis Club Phalsbourg\, Allée des sports\, Phalsbourg\, 57370\, France
CATEGORIES:Accueil,Sportif
END:VEVENT
END:VCALENDAR