BEGIN:VCALENDAR
VERSION:2.0
PRODID:-//Tennis Club Phalsbourg - ECPv5.1.0//NONSGML v1.0//EN
CALSCALE:GREGORIAN
METHOD:PUBLISH
X-WR-CALNAME:Tennis Club Phalsbourg
X-ORIGINAL-URL:http://www.tcphalsbourg.fr
X-WR-CALDESC:Évènements pour Tennis Club Phalsbourg
BEGIN:VTIMEZONE
TZID:Europe/Paris
BEGIN:DAYLIGHT
TZOFFSETFROM:+0100
TZOFFSETTO:+0200
TZNAME:CEST
DTSTART:20200329T010000
END:DAYLIGHT
BEGIN:STANDARD
TZOFFSETFROM:+0200
TZOFFSETTO:+0100
TZNAME:CET
DTSTART:20201025T010000
END:STANDARD
END:VTIMEZONE
BEGIN:VEVENT
DTSTART;VALUE=DATE:20200518
DTEND;VALUE=DATE:20200901
DTSTAMP:20260420T131515
CREATED:20200509T081720Z
LAST-MODIFIED:20200509T081915Z
UID:3996-1589760000-1598918399@www.tcphalsbourg.fr
SUMMARY:[Déconfinement COVID-19] : comment accéder aux terrains extérieurs à partir du 18 mai
DESCRIPTION:Chers membres\, \nLe déconfinement aura lieu le 11 mai et voici les informations relatives au fonctionnement de notre club de tennis. \nLa fédération française de tennis a élaboré un protocole sanitaire pour garantir la sécurité des joueurs. \nCe protocole est disponible à l’adresse ci jointe et sera affiché sur les terrains. \nLe gouvernement a autorisé les clubs de tennis à reprendre dans le strict respect de ce protocole. \nNous avons contacté la mairie qui a donné son autorisation dans le respect des règles de la FFT. \nDe son coté\, le comité a pris toutes les dispositions nécessaires pour la réouverture du club conformément au protocole édité par la FFT \nLe comité a donc décidé de permettre aux joueurs de reprendre l’activité en extérieur uniquement et à partir du lundi 18 mai\, le temps de préparer les installations. Le club house et les vestiaires resteront fermés\, l’accès aux courts couverts est interdit. \nJ’attire votre attention sur le fait qu’il ne sera par exemple pas possible d’être plus de 2 joueurs sur le terrain et chacun devra distinguer ses balles et respecter les gestes de distanciation physique (2 m minimum entre personnes) … \nSeuls les terrains extérieurs sont ouverts et uniquement sur réservation après avoir renvoyé par mail uniquement l’attestation ci jointe à l’adresse : tc.phalsbourg@fft.fr \nVous pouvez imprimer cette attestation\, la remplir et la scanner puis la renvoyer par mail. \nCette attestation confirme que vous avez bien pris connaissance des règles à respecter strictement. \nAucune séance de cours collectifs ne peut être assurée pour le moment. La situation sera revue au début du mois de juin. \nLe référent COVID désigné par le club sera le point de contact pour tout membre du club sur les questions relatives à la reprise d’activité dans le cadre de la sortie du confinement : MARTINEZ Rafael (06 76 99 77 68) ou ROMER Franck (06 36 36 07 41). \nJe vous rappelle que les réservations des terrains s’effectuent via l’application Tenup. \nEn cas de difficulté pour réserver\, vous pouvez contacter le référent Tenup : NOBLET Alain (07 88 63 33 63). \nEn cas de problème d’accès (pas de clé)\, vous pouvez contacter le référent des infrastructures : SPIELMANN Jacky (07 80 32 92 79) \nLe comité sera vigilant au respect de ces règles qui garantissent la sécurité de tous. En cas de non-respect\, l’accès aux terrains sera provisoirement suspendu. \nSportivement. \nLe Comité du tennis club de Phalsbourg. \n
URL:http://www.tcphalsbourg.fr/event/covid-19-sortie-du-confinement-comment-acceder-aux-terrains-exterieurs-a-partir-du-18-mai/
LOCATION:Tennis Club Phalsbourg\, Allée des sports\, Phalsbourg\, 57370\, France
CATEGORIES:Accueil,Sportif
END:VEVENT
END:VCALENDAR