BEGIN:VCALENDAR
VERSION:2.0
PRODID:-//Tennis Club Phalsbourg - ECPv5.1.0//NONSGML v1.0//EN
CALSCALE:GREGORIAN
METHOD:PUBLISH
X-WR-CALNAME:Tennis Club Phalsbourg
X-ORIGINAL-URL:http://www.tcphalsbourg.fr
X-WR-CALDESC:Évènements pour Tennis Club Phalsbourg
BEGIN:VTIMEZONE
TZID:Europe/Paris
BEGIN:DAYLIGHT
TZOFFSETFROM:+0100
TZOFFSETTO:+0200
TZNAME:CEST
DTSTART:20220327T010000
END:DAYLIGHT
BEGIN:STANDARD
TZOFFSETFROM:+0200
TZOFFSETTO:+0100
TZNAME:CET
DTSTART:20221030T010000
END:STANDARD
END:VTIMEZONE
BEGIN:VEVENT
DTSTART;TZID=Europe/Paris:20220607T000000
DTEND;TZID=Europe/Paris:20220607T000000
DTSTAMP:20260420T131505
CREATED:20220522T080519Z
LAST-MODIFIED:20220522T080519Z
UID:4257-1654560000-1654560000@www.tcphalsbourg.fr
SUMMARY:Début des cours pour adultes débutants
DESCRIPTION:Le Tennis club de Phalsbourg propose des cours pour adultes débutants en juin 2022 comprenant: \n– 8 séances d’1h30 en cours collectifs encadrées par 1 diplômé d’Etat en soirée \n– la licence FFT et l’accès aux terrains extérieurs jusqu’à la fin de la saison sportive (31/08/2022) \n– Prix: 70€ \n– Dates: mardi 7 juin\, mardi 14 juin\, mercredi 15 juin\, lundi 20 juin\, mardi 21 juin\, lundi 27 juin\, mardi 28 juin et jeudi 30 juin \n– Places limitées à 12 \n– Date limite d’inscription: 31 mai \nInscription: Jean-Michel WEBER 06 42 55 73 38 \n
URL:http://www.tcphalsbourg.fr/event/debut-des-cours-pour-adultes-debutants/
LOCATION:Tennis Club Phalsbourg\, Allée des sports\, Phalsbourg\, 57370\, France
CATEGORIES:Accueil,Sportif
END:VEVENT
END:VCALENDAR