BEGIN:VCALENDAR
VERSION:2.0
PRODID:-//Tennis Club Phalsbourg - ECPv5.1.0//NONSGML v1.0//EN
CALSCALE:GREGORIAN
METHOD:PUBLISH
X-WR-CALNAME:Tennis Club Phalsbourg
X-ORIGINAL-URL:http://www.tcphalsbourg.fr
X-WR-CALDESC:Évènements pour Tennis Club Phalsbourg
BEGIN:VTIMEZONE
TZID:Europe/Paris
BEGIN:DAYLIGHT
TZOFFSETFROM:+0100
TZOFFSETTO:+0200
TZNAME:CEST
DTSTART:20200329T010000
END:DAYLIGHT
BEGIN:STANDARD
TZOFFSETFROM:+0200
TZOFFSETTO:+0100
TZNAME:CET
DTSTART:20201025T010000
END:STANDARD
END:VTIMEZONE
BEGIN:VEVENT
DTSTART;TZID=Europe/Paris:20200518T080000
DTEND;TZID=Europe/Paris:20200831T170000
DTSTAMP:20260420T131501
CREATED:20200517T063925Z
LAST-MODIFIED:20200517T063959Z
UID:4033-1589788800-1598893200@www.tcphalsbourg.fr
SUMMARY:[Déconfinement COVID-19] : comment accéder aux terrains extérieurs à partir du 18 mai - Signer son attestation informatiquement/ tuto
DESCRIPTION:Bonjour\, \nComme vous le savez la reprise du tennis loisir est autorisée à partir de ce lundi 18 mai\, sur les courts extérieurs et dans le respect du protocole sanitaire de la FFT. \nAu préalable\, il convient de nous retourner votre attestation signée. \nSi vous ne disposez pas d’imprimante/scanner\, il vous est possible de la remplir et de la signer informatiquement: \nVous trouverez ci-joint un petit tuto à cet effet. \nhttps://adoc.app.fft.fr/adminupload/temp/55/57/0083/ADOC_PJ/31/6B52CB7CE2CDB57139A064F430C0BD96.pdf \nBonne reprise à tous. \nTC Phalsbourg \n
URL:http://www.tcphalsbourg.fr/event/deconfinement-covid-19-comment-acceder-aux-terrains-exterieurs-a-partir-du-18-mai-signer-son-attestation-informatiquement-tuto/
LOCATION:Tennis Club Phalsbourg\, Allée des sports\, Phalsbourg\, 57370\, France
CATEGORIES:Accueil,Organisationel,Sportif
END:VEVENT
END:VCALENDAR