BEGIN:VCALENDAR
VERSION:2.0
PRODID:-//Tennis Club Phalsbourg - ECPv5.1.0//NONSGML v1.0//EN
CALSCALE:GREGORIAN
METHOD:PUBLISH
X-WR-CALNAME:Tennis Club Phalsbourg
X-ORIGINAL-URL:http://www.tcphalsbourg.fr
X-WR-CALDESC:Évènements pour Tennis Club Phalsbourg
BEGIN:VTIMEZONE
TZID:Europe/Paris
BEGIN:DAYLIGHT
TZOFFSETFROM:+0100
TZOFFSETTO:+0200
TZNAME:CEST
DTSTART:20210328T010000
END:DAYLIGHT
BEGIN:STANDARD
TZOFFSETFROM:+0200
TZOFFSETTO:+0100
TZNAME:CET
DTSTART:20211031T010000
END:STANDARD
END:VTIMEZONE
BEGIN:VEVENT
DTSTART;TZID=Europe/Paris:20210221T080000
DTEND;TZID=Europe/Paris:20210314T170000
DTSTAMP:20260420T130325
CREATED:20210221T105603Z
LAST-MODIFIED:20210221T111201Z
UID:4133-1613894400-1615741200@www.tcphalsbourg.fr
SUMMARY:Opération textile
DESCRIPTION: \n
URL:http://www.tcphalsbourg.fr/event/operation-textile/
LOCATION:Tennis Club Phalsbourg\, Allée des sports\, Phalsbourg\, 57370\, France
CATEGORIES:Accueil,Animation,Sportif
ATTACH;FMTTYPE=image/png:http://www.tcphalsbourg.fr/wp-content/uploads/2021/02/textile_2021.png
END:VEVENT
END:VCALENDAR