BEGIN:VCALENDAR
VERSION:2.0
PRODID:-//Tennis Club Phalsbourg - ECPv5.1.0//NONSGML v1.0//EN
CALSCALE:GREGORIAN
METHOD:PUBLISH
X-WR-CALNAME:Tennis Club Phalsbourg
X-ORIGINAL-URL:http://www.tcphalsbourg.fr
X-WR-CALDESC:Évènements pour Tennis Club Phalsbourg
BEGIN:VTIMEZONE
TZID:Europe/Paris
BEGIN:DAYLIGHT
TZOFFSETFROM:+0100
TZOFFSETTO:+0200
TZNAME:CEST
DTSTART:20210328T010000
END:DAYLIGHT
BEGIN:STANDARD
TZOFFSETFROM:+0200
TZOFFSETTO:+0100
TZNAME:CET
DTSTART:20211031T010000
END:STANDARD
END:VTIMEZONE
BEGIN:VEVENT
DTSTART;TZID=Europe/Paris:20210818T173000
DTEND;TZID=Europe/Paris:20210818T190000
DTSTAMP:20260420T130631
CREATED:20210704T103955Z
LAST-MODIFIED:20210704T103955Z
UID:4154-1629307800-1629313200@www.tcphalsbourg.fr
SUMMARY:Tennis découverte
DESCRIPTION:Mercredi 7 juillet et Mercredi 18 août :\nMercredi 07/07 de 13h30 à 14h30 (4 à 6 ans)\nMercredi 07/07de 14h30 à 15h30 (7 ans et +)\nMercredi 18/08 de 17h30 à 19h (4 à 6 ans et 7 ans et +)\nInscris-toi en retournant le Coupon-Réponse ci-dessous ! Dans la boîte aux lettres du Tennis Club\, allée des Sports à Phalsbourg ou par « sms » au 07 80 32 92 79 (Jacky SPIELMANN)\naffiche tennis découverte \n
URL:http://www.tcphalsbourg.fr/event/tennis-decouverte-2/
LOCATION:Tennis Club Phalsbourg\, Allée des sports\, Phalsbourg\, 57370\, France
CATEGORIES:Accueil,Animation,Sportif
END:VEVENT
END:VCALENDAR