BEGIN:VCALENDAR
VERSION:2.0
PRODID:-//Tennis Club Phalsbourg - ECPv5.1.0//NONSGML v1.0//EN
CALSCALE:GREGORIAN
METHOD:PUBLISH
X-WR-CALNAME:Tennis Club Phalsbourg
X-ORIGINAL-URL:https://www.tcphalsbourg.fr
X-WR-CALDESC:Évènements pour Tennis Club Phalsbourg
BEGIN:VTIMEZONE
TZID:Europe/Paris
BEGIN:DAYLIGHT
TZOFFSETFROM:+0100
TZOFFSETTO:+0200
TZNAME:CEST
DTSTART:20230326T010000
END:DAYLIGHT
BEGIN:STANDARD
TZOFFSETFROM:+0200
TZOFFSETTO:+0100
TZNAME:CET
DTSTART:20231029T010000
END:STANDARD
END:VTIMEZONE
BEGIN:VEVENT
DTSTART;VALUE=DATE:20230904
DTEND;VALUE=DATE:20230911
DTSTAMP:20260421T213032
CREATED:20180225T154641Z
LAST-MODIFIED:20230610T063700Z
UID:3340-1693785600-1694390399@www.tcphalsbourg.fr
SUMMARY:Début des cours !
DESCRIPTION:
URL:https://www.tcphalsbourg.fr/event/debut-des-cours/
LOCATION:Tennis Club Phalsbourg\, Allée des sports\, Phalsbourg\, 57370\, France
CATEGORIES:Accueil,Animation,Organisationel,Sportif
ATTACH;FMTTYPE=image/png:https://www.tcphalsbourg.fr/wp-content/uploads/2018/02/logo2.png
END:VEVENT
END:VCALENDAR