BEGIN:VCALENDAR
VERSION:2.0
PRODID:-//Tennis Club Phalsbourg - ECPv5.1.0//NONSGML v1.0//EN
CALSCALE:GREGORIAN
METHOD:PUBLISH
X-WR-CALNAME:Tennis Club Phalsbourg
X-ORIGINAL-URL:https://www.tcphalsbourg.fr
X-WR-CALDESC:Évènements pour Tennis Club Phalsbourg
BEGIN:VTIMEZONE
TZID:Europe/Paris
BEGIN:DAYLIGHT
TZOFFSETFROM:+0100
TZOFFSETTO:+0200
TZNAME:CEST
DTSTART:20230326T010000
END:DAYLIGHT
BEGIN:STANDARD
TZOFFSETFROM:+0200
TZOFFSETTO:+0100
TZNAME:CET
DTSTART:20231029T010000
END:STANDARD
END:VTIMEZONE
BEGIN:VEVENT
DTSTART;TZID=Europe/Paris:20230820T100000
DTEND;TZID=Europe/Paris:20230820T130000
DTSTAMP:20260421T174857
CREATED:20180225T154530Z
LAST-MODIFIED:20230705T210835Z
UID:3338-1692525600-1692536400@www.tcphalsbourg.fr
SUMMARY:Inscriptions saison 2023-2024
DESCRIPTION:Le dimanche 13/08 de 10h00 à 13h00 \nLe mercredi 16/08 de 17h30 à 19h30 \nLe dimanche 20/08 de 10h00 à 13h00 \n  \nDébut des cours le 4 septembre \n  \nDocuments d’inscription : \nDOCUMENTS INSCRIPTION 2024 v1 \n
URL:https://www.tcphalsbourg.fr/event/inscriptions-saison-2020-2021-2/
LOCATION:Tennis Club Phalsbourg\, Allée des sports\, Phalsbourg\, 57370\, France
CATEGORIES:Accueil,Animation,Organisationel,Sportif
END:VEVENT
END:VCALENDAR